BEGIN:VCALENDAR
VERSION:2.0
PRODID:-//hacksw/handcal//NONSGML v1.0//EN
CALSCALE:GREGORIAN
BEGIN:VEVENT
LOCATION:Opéra Comédie
DTSTART:20260510T093000
DTEND:20260510T113000
SUMMARY:Tous à l’Opéra 2026
URL;VALUE=URI:https://www.opera-orchestre-montpellier.fr/evenements/tous-a-lopera-2026/
DTSTAMP:20260424T142253
UID:69eb7cbd94cf2
END:VEVENT
END:VCALENDAR