BEGIN:VCALENDAR
VERSION:2.0
PRODID:-//hacksw/handcal//NONSGML v1.0//EN
CALSCALE:GREGORIAN
BEGIN:VEVENT
LOCATION:Saint-Gilles | Abbatiale Ancien chœur
DTSTART:20260619T203000
DTEND:20260619T223000
SUMMARY:L’Esprit des Lumières #2
URL;VALUE=URI:https://www.opera-orchestre-montpellier.fr/evenements/lesprit-des-lumieres-2/
DTSTAMP:20260425T142945
UID:69eccfd91776b
END:VEVENT
END:VCALENDAR