BEGIN:VCALENDAR
VERSION:2.0
PRODID:-//hacksw/handcal//NONSGML v1.0//EN
CALSCALE:GREGORIAN
BEGIN:VEVENT
LOCATION:Opéra Comédie
DTSTART:20260509T093000
DTEND:20260509T113000
SUMMARY:Tous à l’Opéra 2026
URL;VALUE=URI:https://www.opera-orchestre-montpellier.fr/evenements/tous-a-lopera-2026/
DTSTAMP:20260424T141836
UID:69eb7bbce5329
END:VEVENT
END:VCALENDAR