BEGIN:VCALENDAR
VERSION:2.0
PRODID:-//hacksw/handcal//NONSGML v1.0//EN
CALSCALE:GREGORIAN
BEGIN:VEVENT
LOCATION:Nîmes | Arènes
DTSTART:20260626T210000
DTEND:20260626T230000
SUMMARY:Gladiator Live
URL;VALUE=URI:https://www.opera-orchestre-montpellier.fr/evenements/gladiator-live-festival-de-nimes-2026/
DTSTAMP:20260425T142206
UID:69ecce0ed4238
END:VEVENT
END:VCALENDAR